{
 "currentVersion": 10.4,
 "serviceDescription": "Image service of 1955 property maps along proposed route. ",
 "name": "Staging/PropertyMaps1995",
 "description": "Image service of 1955 property maps along proposed route. ",
 "extent": {
  "xmin": 3658865.524246691,
  "ymin": 527092.4045628575,
  "xmax": 3679395.5856106915,
  "ymax": 545998.0821708577,
  "spatialReference": {
   "wkid": 102682,
   "latestWkid": 3452
  }
 },
 "initialExtent": {
  "xmin": 3658865.524246691,
  "ymin": 527092.4045628575,
  "xmax": 3679395.5856106915,
  "ymax": 545998.0821708577,
  "spatialReference": {
   "wkid": 102682,
   "latestWkid": 3452
  }
 },
 "fullExtent": {
  "xmin": 3658865.524246691,
  "ymin": 527092.4045628575,
  "xmax": 3679395.5856106915,
  "ymax": 545998.0821708577,
  "spatialReference": {
   "wkid": 102682,
   "latestWkid": 3452
  }
 },
 "pixelSizeX": 1.3777640000000444,
 "pixelSizeY": 1.3777640000000169,
 "bandCount": 4,
 "pixelType": "U8",
 "minPixelSize": 0,
 "maxPixelSize": 0,
 "copyrightText": "",
 "serviceDataType": "esriImageServiceDataTypeGeneric",
 "minValues": [
  0,
  0,
  0,
  255
 ],
 "maxValues": [
  255,
  255,
  255,
  255
 ],
 "meanValues": [
  248.40231277726963,
  248.40231277726963,
  248.40231277726963,
  255
 ],
 "stdvValues": [
  33.517125633319715,
  33.517125633319715,
  33.517125633319715,
  0
 ],
 "objectIdField": "",
 "fields": [],
 "capabilities": "Image,Metadata,Mensuration",
 "defaultMosaicMethod": "Center",
 "allowedMosaicMethods": "",
 "sortField": "",
 "sortValue": null,
 "mosaicOperator": "First",
 "defaultCompressionQuality": 75,
 "defaultResamplingMethod": "Bilinear",
 "maxImageHeight": 4100,
 "maxImageWidth": 15000,
 "allowRasterFunction": true,
 "rasterFunctionInfos": [],
 "rasterTypeInfos": [
  {
   "name": "Raster Dataset",
   "description": "Supports all ArcGIS Raster Datasets",
   "help": ""
  }
 ],
 "mensurationCapabilities": "Basic",
 "hasHistograms": true,
 "hasColormap": false,
 "hasRasterAttributeTable": false,
 "minScale": 0,
 "maxScale": 0,
 "exportTilesAllowed": false,
 "hasMultidimensions": false,
 "supportsStatistics": false,
 "supportsAdvancedQueries": false,
 "editFieldsInfo": null,
 "ownershipBasedAccessControlForRasters": null,
 "allowComputeTiePoints": false,
 "useStandardizedQueries": true,
 "advancedQueryCapabilities": {
  "useStandardizedQueries": true,
  "supportsStatistics": false,
  "supportsOrderBy": false,
  "supportsDistinct": false,
  "supportsPagination": false
 },
 "spatialReference": {
  "wkid": 102682,
  "latestWkid": 3452
 }
}
