View In:
ArcGIS JavaScript
ArcGIS Online map viewer
Google Earth
ArcMap
View Footprint In:
ArcGIS Online map viewer
Service Description: Image service of 1955 property maps along proposed route.
Name: Staging/PropertyMaps1995
Description: Image service of 1955 property maps along proposed route.
Single Fused Map Cache: false
Extent:
XMin: 3658865.524246691
YMin: 527092.4045628575
XMax: 3679395.5856106915
YMax: 545998.0821708577
Spatial Reference: 102682
(3452)
Initial Extent:
XMin: 3658865.524246691
YMin: 527092.4045628575
XMax: 3679395.5856106915
YMax: 545998.0821708577
Spatial Reference: 102682
(3452)
Full Extent:
XMin: 3658865.524246691
YMin: 527092.4045628575
XMax: 3679395.5856106915
YMax: 545998.0821708577
Spatial Reference: 102682
(3452)
Pixel Size X: 1.3777640000000444
Pixel Size Y: 1.3777640000000169
Band Count: 4
Pixel Type: U8
RasterFunction Infos: N/A
Mensuration Capabilities: Basic
Has Histograms: true
Has Colormap: false
Has Multi Dimensions : false
Rendering Rule:
Min Scale: 0
Max Scale: 0
Copyright Text:
Service Data Type: esriImageServiceDataTypeGeneric
Min Values: 0, 0, 0, 255
Max Values: 255, 255, 255, 255
Mean Values: 248.40231277726963, 248.40231277726963, 248.40231277726963, 255
Standard Deviation Values: 33.517125633319715, 33.517125633319715, 33.517125633319715, 0
Object ID Field:
Fields:
None
Default Mosaic Method: Center
Allowed Mosaic Methods:
SortField:
SortValue: null
Mosaic Operator: First
Default Compression Quality: 75
Default Resampling Method: Bilinear
Max Record Count: null
Max Image Height: 4100
Max Image Width: 15000
Max Download Image Count: null
Max Mosaic Image Count: null
Allow Raster Function: true
Allow Compute TiePoints: false
Supports Statistics: false
Supports Advanced Queries: false
Use StandardizedQueries: true
Raster Type Infos:
Name: Raster Dataset
Description: Supports all ArcGIS Raster Datasets
Help:
Has Raster Attribute Table: false
Edit Fields Info: null
Ownership Based AccessControl For Rasters: null
Child Resources:
Info
Histograms
Key Properties
Legend
MultiDimensionalInfo
rasterFunctionInfos
Supported Operations:
Export Image
Identify
Measure
Compute Histograms
Compute Statistics Histograms
Get Samples
Compute Class Statistics